BEGIN:VCALENDAR
VERSION:2.0
PRODID:-//ANGELVEREIN MUDENBACH e.V. - ECPv6.15.20//NONSGML v1.0//EN
CALSCALE:GREGORIAN
METHOD:PUBLISH
X-ORIGINAL-URL:https://www.asv-mudenbach.de
X-WR-CALDESC:Veranstaltungen für ANGELVEREIN MUDENBACH e.V.
REFRESH-INTERVAL;VALUE=DURATION:PT1H
X-Robots-Tag:noindex
X-PUBLISHED-TTL:PT1H
BEGIN:VTIMEZONE
TZID:Europe/Helsinki
BEGIN:DAYLIGHT
TZOFFSETFROM:+0200
TZOFFSETTO:+0300
TZNAME:EEST
DTSTART:20250330T010000
END:DAYLIGHT
BEGIN:STANDARD
TZOFFSETFROM:+0300
TZOFFSETTO:+0200
TZNAME:EET
DTSTART:20251026T010000
END:STANDARD
BEGIN:DAYLIGHT
TZOFFSETFROM:+0200
TZOFFSETTO:+0300
TZNAME:EEST
DTSTART:20260329T010000
END:DAYLIGHT
BEGIN:STANDARD
TZOFFSETFROM:+0300
TZOFFSETTO:+0200
TZNAME:EET
DTSTART:20261025T010000
END:STANDARD
BEGIN:DAYLIGHT
TZOFFSETFROM:+0200
TZOFFSETTO:+0300
TZNAME:EEST
DTSTART:20270328T010000
END:DAYLIGHT
BEGIN:STANDARD
TZOFFSETFROM:+0300
TZOFFSETTO:+0200
TZNAME:EET
DTSTART:20271031T010000
END:STANDARD
END:VTIMEZONE
BEGIN:VEVENT
DTSTART;TZID=Europe/Helsinki:20260711T083000
DTEND;TZID=Europe/Helsinki:20260711T130000
DTSTAMP:20260423T185358
CREATED:20250926T064731Z
LAST-MODIFIED:20250926T064731Z
UID:4187-1783758600-1783774800@www.asv-mudenbach.de
SUMMARY:Arbeitseinsatz Königsangeln
DESCRIPTION:
URL:https://www.asv-mudenbach.de/event/arbeitseinsatz-koenigsangeln
END:VEVENT
BEGIN:VEVENT
DTSTART;TZID=Europe/Helsinki:20260712T070000
DTEND;TZID=Europe/Helsinki:20260712T150000
DTSTAMP:20260423T185358
CREATED:20250926T064825Z
LAST-MODIFIED:20250926T064825Z
UID:4189-1783839600-1783868400@www.asv-mudenbach.de
SUMMARY:Königsangeln+Sommerfest
DESCRIPTION:
URL:https://www.asv-mudenbach.de/event/koenigsangelnsommerfest
END:VEVENT
BEGIN:VEVENT
DTSTART;TZID=Europe/Helsinki:20261017T083000
DTEND;TZID=Europe/Helsinki:20261017T130000
DTSTAMP:20260423T185358
CREATED:20250926T064903Z
LAST-MODIFIED:20250926T064903Z
UID:4191-1792225800-1792242000@www.asv-mudenbach.de
SUMMARY:Arbeitseinsatz Herbstangeln
DESCRIPTION:
URL:https://www.asv-mudenbach.de/event/arbeitseinsatz-herbstangeln-2
END:VEVENT
BEGIN:VEVENT
DTSTART;TZID=Europe/Helsinki:20261018T080000
DTEND;TZID=Europe/Helsinki:20261018T120000
DTSTAMP:20260423T185358
CREATED:20250926T064934Z
LAST-MODIFIED:20250926T064934Z
UID:4193-1792310400-1792324800@www.asv-mudenbach.de
SUMMARY:Herbstangeln
DESCRIPTION:
URL:https://www.asv-mudenbach.de/event/herbstangeln-2
END:VEVENT
BEGIN:VEVENT
DTSTART;TZID=Europe/Helsinki:20261031T120000
DTEND;TZID=Europe/Helsinki:20261031T150000
DTSTAMP:20260423T185358
CREATED:20250926T065012Z
LAST-MODIFIED:20251205T125425Z
UID:4195-1793448000-1793458800@www.asv-mudenbach.de
SUMMARY:Herbsträuchern mit Matjesverkauf
DESCRIPTION:
URL:https://www.asv-mudenbach.de/event/herbstraeuchern-mit-matjesverkauf-2
END:VEVENT
END:VCALENDAR