BEGIN:VCALENDAR
VERSION:2.0
PRODID:-//ANGELVEREIN MUDENBACH e.V. - ECPv6.15.20//NONSGML v1.0//EN
CALSCALE:GREGORIAN
METHOD:PUBLISH
X-WR-CALNAME:ANGELVEREIN MUDENBACH e.V.
X-ORIGINAL-URL:https://www.asv-mudenbach.de
X-WR-CALDESC:Veranstaltungen für ANGELVEREIN MUDENBACH e.V.
REFRESH-INTERVAL;VALUE=DURATION:PT1H
X-Robots-Tag:noindex
X-PUBLISHED-TTL:PT1H
BEGIN:VTIMEZONE
TZID:Europe/Helsinki
BEGIN:DAYLIGHT
TZOFFSETFROM:+0200
TZOFFSETTO:+0300
TZNAME:EEST
DTSTART:20240331T010000
END:DAYLIGHT
BEGIN:STANDARD
TZOFFSETFROM:+0300
TZOFFSETTO:+0200
TZNAME:EET
DTSTART:20241027T010000
END:STANDARD
BEGIN:DAYLIGHT
TZOFFSETFROM:+0200
TZOFFSETTO:+0300
TZNAME:EEST
DTSTART:20250330T010000
END:DAYLIGHT
BEGIN:STANDARD
TZOFFSETFROM:+0300
TZOFFSETTO:+0200
TZNAME:EET
DTSTART:20251026T010000
END:STANDARD
BEGIN:DAYLIGHT
TZOFFSETFROM:+0200
TZOFFSETTO:+0300
TZNAME:EEST
DTSTART:20260329T010000
END:DAYLIGHT
BEGIN:STANDARD
TZOFFSETFROM:+0300
TZOFFSETTO:+0200
TZNAME:EET
DTSTART:20261025T010000
END:STANDARD
BEGIN:DAYLIGHT
TZOFFSETFROM:+0200
TZOFFSETTO:+0300
TZNAME:EEST
DTSTART:20270328T010000
END:DAYLIGHT
BEGIN:STANDARD
TZOFFSETFROM:+0300
TZOFFSETTO:+0200
TZNAME:EET
DTSTART:20271031T010000
END:STANDARD
END:VTIMEZONE
BEGIN:VEVENT
DTSTART;TZID=Europe/Helsinki:20260402T120000
DTEND;TZID=Europe/Helsinki:20260402T150000
DTSTAMP:20260423T190213
CREATED:20250926T064649Z
LAST-MODIFIED:20250926T064649Z
UID:4185-1775131200-1775142000@www.asv-mudenbach.de
SUMMARY:Osterräuchern
DESCRIPTION:
URL:https://www.asv-mudenbach.de/event/osterraeuchern
END:VEVENT
BEGIN:VEVENT
DTSTART;TZID=Europe/Helsinki:20260322T080000
DTEND;TZID=Europe/Helsinki:20260322T120000
DTSTAMP:20260423T190213
CREATED:20250926T064354Z
LAST-MODIFIED:20250926T064416Z
UID:4183-1774166400-1774180800@www.asv-mudenbach.de
SUMMARY:Eröffnungsangeln
DESCRIPTION:
URL:https://www.asv-mudenbach.de/event/eroeffnungsangeln
END:VEVENT
BEGIN:VEVENT
DTSTART;TZID=Europe/Helsinki:20260321T083000
DTEND;TZID=Europe/Helsinki:20260321T130000
DTSTAMP:20260423T190213
CREATED:20250926T064323Z
LAST-MODIFIED:20250926T064323Z
UID:4181-1774081800-1774098000@www.asv-mudenbach.de
SUMMARY:Arbeitseinsatz Eröffnungsangeln
DESCRIPTION:
URL:https://www.asv-mudenbach.de/event/arbeitseinsatz-eroeffnungsangeln
END:VEVENT
BEGIN:VEVENT
DTSTART;TZID=Europe/Helsinki:20260220T190000
DTEND;TZID=Europe/Helsinki:20260220T220000
DTSTAMP:20260423T190213
CREATED:20250926T064224Z
LAST-MODIFIED:20250926T064224Z
UID:4179-1771614000-1771624800@www.asv-mudenbach.de
SUMMARY:Jahreshauptversammlung 2026
DESCRIPTION:
URL:https://www.asv-mudenbach.de/event/jahreshauptversammlung-2026
END:VEVENT
BEGIN:VEVENT
DTSTART;TZID=Europe/Helsinki:20251108T080000
DTEND;TZID=Europe/Helsinki:20251108T140000
DTSTAMP:20260423T190213
CREATED:20250801T071137Z
LAST-MODIFIED:20250801T071137Z
UID:4168-1762588800-1762610400@www.asv-mudenbach.de
SUMMARY:Herbsträuchern mit Matjesverkauf
DESCRIPTION:
URL:https://www.asv-mudenbach.de/event/herbstraeuchern-mit-matjesverkauf
END:VEVENT
BEGIN:VEVENT
DTSTART;TZID=Europe/Helsinki:20251019T080000
DTEND;TZID=Europe/Helsinki:20251019T120000
DTSTAMP:20260423T190213
CREATED:20250801T071104Z
LAST-MODIFIED:20250801T071104Z
UID:4166-1760860800-1760875200@www.asv-mudenbach.de
SUMMARY:Herbstangeln
DESCRIPTION:
URL:https://www.asv-mudenbach.de/event/herbstangeln
END:VEVENT
BEGIN:VEVENT
DTSTART;TZID=Europe/Helsinki:20251018T080000
DTEND;TZID=Europe/Helsinki:20251018T140000
DTSTAMP:20260423T190213
CREATED:20250801T064731Z
LAST-MODIFIED:20250801T064731Z
UID:4163-1760774400-1760796000@www.asv-mudenbach.de
SUMMARY:Arbeitseinsatz Herbstangeln
DESCRIPTION:
URL:https://www.asv-mudenbach.de/event/arbeitseinsatz-herbstangeln
LOCATION:Vereinsgewässer
END:VEVENT
END:VCALENDAR