BEGIN:VCALENDAR
VERSION:2.0
PRODID:-//ANGELVEREIN MUDENBACH e.V. - ECPv6.15.20//NONSGML v1.0//EN
CALSCALE:GREGORIAN
METHOD:PUBLISH
X-WR-CALNAME:ANGELVEREIN MUDENBACH e.V.
X-ORIGINAL-URL:https://www.asv-mudenbach.de
X-WR-CALDESC:Veranstaltungen für ANGELVEREIN MUDENBACH e.V.
REFRESH-INTERVAL;VALUE=DURATION:PT1H
X-Robots-Tag:noindex
X-PUBLISHED-TTL:PT1H
BEGIN:VTIMEZONE
TZID:Europe/Helsinki
BEGIN:DAYLIGHT
TZOFFSETFROM:+0200
TZOFFSETTO:+0300
TZNAME:EEST
DTSTART:20250330T010000
END:DAYLIGHT
BEGIN:STANDARD
TZOFFSETFROM:+0300
TZOFFSETTO:+0200
TZNAME:EET
DTSTART:20251026T010000
END:STANDARD
BEGIN:DAYLIGHT
TZOFFSETFROM:+0200
TZOFFSETTO:+0300
TZNAME:EEST
DTSTART:20260329T010000
END:DAYLIGHT
BEGIN:STANDARD
TZOFFSETFROM:+0300
TZOFFSETTO:+0200
TZNAME:EET
DTSTART:20261025T010000
END:STANDARD
BEGIN:DAYLIGHT
TZOFFSETFROM:+0200
TZOFFSETTO:+0300
TZNAME:EEST
DTSTART:20270328T010000
END:DAYLIGHT
BEGIN:STANDARD
TZOFFSETFROM:+0300
TZOFFSETTO:+0200
TZNAME:EET
DTSTART:20271031T010000
END:STANDARD
END:VTIMEZONE
BEGIN:VEVENT
DTSTART;TZID=Europe/Helsinki:20260321T083000
DTEND;TZID=Europe/Helsinki:20260321T130000
DTSTAMP:20260423T204553
CREATED:20250926T064323Z
LAST-MODIFIED:20250926T064323Z
UID:4181-1774081800-1774098000@www.asv-mudenbach.de
SUMMARY:Arbeitseinsatz Eröffnungsangeln
DESCRIPTION:
URL:https://www.asv-mudenbach.de/event/arbeitseinsatz-eroeffnungsangeln
END:VEVENT
END:VCALENDAR